BEGIN:VCALENDAR
METHOD:PUBLISH
VERSION:2.0
PRODID:-//Kutyabarathelyek//Programok//EN
BEGIN:VEVENT
SUMMARY:Jótékonysági Kutyás Sport és Örökbefogadó NAP
UID:69e738f465b8c
DTSTART:20190608T000000Z
DTEND:20190608T000000Z

DESCRIPTION:&nbsp\;



&nbsp\;

&nbsp\;

Időpont: Június 08. Szombat 8.30-tól

Helyszín: A gyömrői Tőzeges tó partján\, az Akácfasor u. sarkon (parkolás a Búcsú téren)


    
    Mi vár rátok?
    Összefoglalva: séta\, kutyás futás\, ügyességi feladatok kedvetek szerint\; fajtabemutatók\, örökbefogadási lehetőség és egy kis plusz: lovaglás\, kézműves foglalkozások
    
    Egy hangulatos kutyasétára is érdemes eljönnötök\, ám ennél izgalmasabb mozgásformákkal is megismerkedhettek az egészséges életmód jegyében. Próbára tehetitek\, hogy mire vagytok képesek együtt kutyusoddal: bizonyíthatjátok fittségeteket kutyás futás versenyen (5 korcsoport kategóriában) és ügyességi versenyelemeket is kipróbálhattok. Utóbbihoz egy látványos agility show-val hozzuk meg a kedveteket!
    
    Hogyha inkább nézelődnél\, ismerkednél egy-egy kutyafajtával\, gyere el fajtabemutatóinkra: szánhúzókkal\, őrző-védő kutyákkal és afrikai oroszlánkutyákkal is találkozhatsz.
    
    Ha pedig már egy ideje vársz a lehetőségre vagy épp most hozod meg ezt a felelősségteljes döntést\, akár haza is vihetsz egy négylábú barátot. A rendezvény egész ideje alatt lehetőség van menhelyi és mentett magyar vizsla\, spániel\, afrikai oroszlánkutya és németjuhász kutyusok örökbefogadására.

&nbsp\;

&nbsp\;


    Részletes program és további információk az esemény Facebook oldalán!
    &nbsp\;

&nbsp\;


    &nbsp\;

LOCATION:Gyömrő Akácfasor utca
END:VEVENT
END:VCALENDAR