BEGIN:VCALENDAR
METHOD:PUBLISH
VERSION:2.0
PRODID:-//Kutyabarathelyek//Programok//EN
BEGIN:VEVENT
SUMMARY: Jubileumi\, 20. nemzetközi szánhúzókutyás találkozó és kutyafogathajtó verseny
UID:69e81d395f4f0
DTSTART:20150918T000000Z
DTEND:20150920T000000Z

DESCRIPTION:20. Nemzetközi Szánhúzókutyás Találkozó 


    2015. szeptember 18-20
    Dunaharaszti\, Univerzum-tó kemping


A főbb programokból:


    kutyafogathajtó\, kutyás futó\, kerékpáros\, scooter verseny (rajt szombaton és vasárnap 9 órakor)
    kutyás triatlon (kutyás úszás\, futás\, kerékpározás a tó körül. Rajt szombaton 14 órakor)
    virslievő verseny kutyáknak (szombaton 16 órakor)
    Közös tábortűz\, szalonna sütés (szombaton este)
    Kutyás ügyességi játékok (vasárnap 11 órától)
    Pénteken 13 órától speciál CAC kutya show és tenyészszemle szibériai husky és alaszkai malamut fajtájú kutyáknak.


Minden nap jótékonysági vásár a rászoruló szánhúzókutyák javára! Tárgyak felajánlását várjuk!
    Szállás: A faházak beteltek. A helyszínen lehetőség van sátrazni\, vagy lakókocsizni\, de nincs telepített\, hozni kell.
    
    Információk:&nbsp\;www.sleddogsportclub.hu\, e-mail: info@sleddogsportclub.hu\, derandrea@gmail.com
    Telefon: 06-20-331-6246
    
    A rendezvényre a belépés ingyenes!
    Kutyákat kérjük kullancs elleni védelemmel ellátni\, illetve érvényes veszettség elleni oltással kell rendelkezniük.
    
    Kutyafogathajtó verseny nevezési díj:
    Magyar Kutyasport Szövetség tagegyesületi tagjai számára: 3500 Ft
    ÉSZKSK tagok számára: 3000 Ft
    Egyéb indulók számára: 4000 Ft
    Több kategóriában történő indulás esetén plusz kategóriánként 500 Ft a nevezési díj.&nbsp\;
    Nevezési határidő: szeptember 10.! HELYSZÍNI NEVEZÉS NINCS!
    nevezési cím: derandrea@gmail.com
    Figyelem! Mindkét nap van futam! Rajt szombaton és vasárnap is 9 órakor.
    
    Kutyafogathajtó versenyen kategóriák: open\, A\, A1\, A2\, B\, B1\, B2\, C\, C1\, C2\, D\, D1\, D2\, scooter 1 vagy 2 FCI szánhúzókutyával\, scooter open 1 vagy 2 kutyával\, Bikejöring 1 vagy 2 FCI szánhúzókutyával\, Bikejöring open 1 vagy 2 kutyával\, Canicross női\, Canicross férfi\, Canicross junior. Táv: 2 km.
    
    HELYSZÍNI NEVEZÉS NINCS!

&nbsp\;



&nbsp\;

&nbsp\;



LOCATION:Dunaharaszti Napsugár utca
END:VEVENT
END:VCALENDAR