BEGIN:VCALENDAR
METHOD:PUBLISH
VERSION:2.0
PRODID:-//Kutyabarathelyek//Programok//EN
BEGIN:VEVENT
SUMMARY:Karácsonyi tekergés
UID:69e634983f98e
DTSTART:20241222T000000Z
DTEND:20241222T000000Z

DESCRIPTION:Canicross\, dogscooter\, bikejöring verseny december 22-én.

&nbsp\;

Minden kutyának rendelkeznie kell érvényes veszettség elleni&nbsp\;oltással. Tovább ajánlott a kombinált oltás és a kennelköhögés&nbsp\;elleni oltás megléte is.

&nbsp\;

&nbsp\;

LOCATION:Veresegyház Szent Jakab utca 26
END:VEVENT
END:VCALENDAR