BEGIN:VCALENDAR
METHOD:PUBLISH
VERSION:2.0
PRODID:-//Kutyabarathelyek//Programok//EN
BEGIN:VEVENT
SUMMARY: Kemencei kirándulós kaland
UID:69e792bb2dc65
DTSTART:20180616T000000Z

URL;VALUE=URI:https://vizslakalandorok.hu/?kaland_kemencei_kirandulos_kaland
DESCRIPTION:&nbsp\;

Az idei év&nbsp\;első nyári szabadságunkat a&nbsp\;Börzsönyben\, Kemencén töltjük.
    Hogy ne csak Nekünk legyen jó\, így arra gondoltunk\, hogy szívesen látunk mindenkit 2018. június 16-án szombaton.

&nbsp\;

Miért is lenne érdemes eljönni?


    mert nem egy hétköznapi\, ám mégis laza 4 órás kaland részese lehetsz.
    minden regisztrált kutyus kap egy Platinum kóstoló csomagot
    minden regisztrált kutyus gazdija kap egy müzli szeletet útravalónak
    részt vehetsz a VizslaKalandorok&nbsp\;RecepTúra 2.0&nbsp\;meglepetés kalandján.
    a kaland után minden regisztrált kutyus gazdija kap tőlünk 1 db palacsintát ajándékba
    amennyiben szeretnéd&nbsp\;velünk tölteni a weekendet&nbsp\;akár szerdai vagy csütörtöki esetleg pénteki csatlakozással\, akkor ne tétovázz\, faház vagy sátorozási lehetőség is van. (Weekend felhívásunkról itt olvashatsz)




&nbsp\;

Találkozási pont:
    Helyszín: H-2638 Kemence\, Völgy u.
    Gyülekező és regisztráció: 8:15&nbsp\;és 9:00 óra között.

A táv kb. 11 km. (laza 3\,5 óra)
    A táv közepén egy komolyabb\, de jól járható emelkedő\, ezt követően már&nbsp\; könnyed séta.
    Szinte végig árnyékban fogunk haladni.

&nbsp\;



&nbsp\;

FIGYELEM!
    A részvétel regisztrációhoz kötött\, hogy elegendő alapanyaggal tudjunk felkészülni a fogadásotokra!
    Kérjük jelezzétek előre részvételi szándékaitokat!

&nbsp\;

Regisztráció és jelentkezés a&nbsp\;VizslaKalandorok weboldalán

Az eseményen 1.000 Ft/fő részvételi hozzájárulásokat a kihelyezett adománygyűjtő dobozban gyűjtjük.


    Köszönjük\, hogy együttműködésetekkel segítitek és támogatjátok munkánkat!

&nbsp\;

Környezettudatosság:
    Kalandjaink során természetes úton lebomló kaki felszedő zacsikat használunk. illetve nem használunk már eldobható műanyag poharakat\, az otthonról hozott poharaitokba is szívesen töltünk Nektek teát.

Az eseményre bármilyen fajta kutyát szívesen várunk\, de elvárás\, hogy közösségbe vihető kutyusok legyenek. Kérjük a tüzelő állatokat most is hagyják otthon és fordítsunk fokozott figyelmet a pórázhasználatra!

&nbsp\;

&nbsp\;

&nbsp\;

LOCATION:Kemence Nagyvölgy út
END:VEVENT
END:VCALENDAR