BEGIN:VCALENDAR
METHOD:PUBLISH
VERSION:2.0
PRODID:-//Kutyabarathelyek//Programok//EN
BEGIN:VEVENT
SUMMARY: Kivágó Arnold IPO Szeminárium
UID:69ec9c52c4d7a
DTSTART:20160611T000000Z
DTEND:20160612T000000Z

DESCRIPTION:2 napos szemináriumt tart Kivágó Arnold\,&nbsp\;az IPO B és C ágazatok felépítéséről.


    Program:


    06.11. szombat engedelmes munka\,
    06.12. vasárnap őrző-védő munka.



    A szeminárium díja


    kutyával 2 nap: 15.000 Ft.
    Kutya nélkül 2 nap: 13.000 Ft.


Egy napos díjak:


    Kutyával: 7500 Ft.
    Kutya nélkül: 6.500 Ft.


A részvételi díj tartalmaz egy ebédet is.

&nbsp\;

Jelentkezni e-mailben\, a dombodogcentrum@gmail.com címen lehet

jelentkezési határidő: 2016.06.06.&nbsp\;
    A részvételi díj a helyszínen fizetendő\, a program kezdete előtt.&nbsp\;
    Információ: Katyi Laura\, 06/30-7437737

LOCATION:Dombóvár Hunyadi tér 25
END:VEVENT
END:VCALENDAR