BEGIN:VCALENDAR
METHOD:PUBLISH
VERSION:2.0
PRODID:-//Kutyabarathelyek//Programok//EN
BEGIN:VEVENT
SUMMARY:Klubkiállítás - Magyarországi Erdélyi Kopó Klub
UID:69eb23d44b33d
DTSTART:20140921T000000Z

URL;VALUE=URI:http://www.erdelyikopo.net/
DESCRIPTION:NEVEZÉSI FELHÍVÁS

A Magyarországi Erdélyi Kopó Klub 2014. szeptember 21-én\, Gödöllőn\, a Királyi Kastély Alsóparkjában Klubkiállítást rendez a Gödöllői Vadásznap keretein belül.&nbsp\;

Bírál: Holovitz Lajos
    
    Nevezni az alábbi címre elküldött általános nevezési lapon lehet:
    Kiss Boglárka
    9165 Tárnokréti\, Fő u. 70.
    e-mail: erdelyikopo@freemail.hu
    információ: +36 30 9974498 Nevezési határidő: 2014. szeptember 1.&nbsp\;
    Nevezési díj: Klub illetve MEOE tagoknak 4500 Ft\, második kutya 4000 Ft\, veterán\, baby és kölyök osztály 3000 Ft.&nbsp\;
    Tenyészcsoport\, Utódcsoport\, Kutyapár 2000 Ft\, Fiatal felvezető 1000 Ft. Nem MEKK illetve MEOE tagoknak a díjak dupláját kell fizetni.
    A nevezési díjat a 73600149-11119566 számlaszámra (Szentgál és Vidéke Takarékszövetkezet) kérjük utalni.
    
    PROGRAM:
    09:00 Kutyák belépése a kiállítás területére
    10:00 Bírálatok megkezdése
    14:00 Best In Show: FGY kiválasztása\, Tenyésztési nagydíj\, Utódcsoport\, Kutyapár\, Fiatal felvezető
    
    RÉSZVÉTELI FELTÉTELEK:
    A kiállításra kizárólag az FCI által elismert származási lappal vagy regisztrációs lappal (B törzskönyv) rendelkezõ\, három hónapos kort betöltött kutya nevezhetõ. Magyar tulajdonban lévő kutya kizárólag a MEOE által honosított származási lappal nevezhető be.
    A nevezéshez minden esetben csatolni kell:
     származási lap kétoldalas másolatát&nbsp\;
     a munka és champion FCI által elismert bizonyítvány másolatát&nbsp\;
     MEOE tagsági igazolvány másolatát&nbsp\;
     a befizetés igazolását.
    A kiállításon minden\, a kutyája által okozott kárért a kutya tulajdonosa tartozik felelősséggel.
    Egészségügyi szabályok: A Magyarországra történő beutazáshoz és a kiállításon való részvételhez a kutyákat el kell látni veszettség elleni védőoltással\, minimum 21 nappal\, maximum 12 hónappal a kiállítás előtt. Az oltás igazolását az oltási könyvnek vagy útlevélnek tartalmaznia kell. Minden\, a kiállításon részt vevő kutya microchippel vagy tetoválással kell\, hogy rendelkezzen.
    
    NEVEZÉSI OSZTÁLYOK
    BABY osztály: 3 - 6 hónapos korig&nbsp\;
    KÖLYÖK osztály: 6 - 9 hónapos korig&nbsp\;
    FIATAL osztály: 9 - 18 hónapos korig&nbsp\;
    NÖVENDÉK osztály: 15 - 24 hónapos korig NYÍLT osztály: 15 hónapos kortól&nbsp\;
    MUNKA osztály: 15 hónapos kortól&nbsp\;
    CHAMPION osztály: 15 hónapos kortól&nbsp\;
    VETERÁN osztály: 8 éves kortól.
    Minden kutya csak egy osztályba nevezhető. Az életkort a bírálati nap előtti napon betöltött kor határozza meg.
    
    ELÉRHETŐ CÍMEK:
    Fiatal Klubgyőztes &ndash\; Kiadható minden &quot\;Fiatal osztálygyőztes&quot\; kan és szuka részére.
    Klubgyőztes &ndash\; Kiadható a felnött osztályok (növendék\, nyílt\, munka\, győztes) győzteseinek összevetését megynyerő kan és szuka részére.
    Veterán Klubgyőztes &ndash\; Kiadható minden &quot\;Érett osztálygyőztes&quot\; kan és szuka részére.
    Fajtagyőztes &ndash\; HFGY
    A &quot\; Klubgyőztes&quot\; kan és szuka\, valamint a &quot\;Fiatal Klubgyőztesek&quot\; és a &quot\;Veterán Klubgyőztesek&quot\; konkurálnak a Fajtagyőztes címért.
    
    Mindenkit szeretettel várunk!
    A Magyarországi Erdélyi Kopó Klub Vezetősége

LOCATION:Gödöllő Alsópark
END:VEVENT
END:VCALENDAR