BEGIN:VCALENDAR
METHOD:PUBLISH
VERSION:2.0
PRODID:-//Kutyabarathelyek//Programok//EN
BEGIN:VEVENT
SUMMARY:Komárom 3X CACIB 2018
UID:69e5ef71a64b5
DTSTART:20181019T000000Z
DTEND:20181021T000000Z
URL;VALUE=URI:https://www.komaromcacib.hu/
DESCRIPTION:&nbsp\;



&nbsp\;


    2018.10.20. Crufts Qualifikation
    2018.10.21. Derby Show

&nbsp\;

Bírólista:&nbsp\;https://www.komaromcacib.hu/?link=birolistakomarom&amp\;m=298


    &nbsp\;



&nbsp\;

&nbsp\;

&nbsp\;

LOCATION:Komárom Duna-part 1.
END:VEVENT
END:VCALENDAR