BEGIN:VCALENDAR
METHOD:PUBLISH
VERSION:2.0
PRODID:-//Kutyabarathelyek//Programok//EN
BEGIN:VEVENT
SUMMARY:Kraft Agility Kupa
UID:69e738979552e
DTSTART:20180603T000000Z


DESCRIPTION:&nbsp\;

Szeretettel meghívunk mindenkit Agility versenyünkre!
    
    2018.06.03-án Nagy Veronika által tervezett pályákon futhattok.
    
    Futamok: 2x kezdő A0 jumping
    1 x open jumping
    1 x open agility
    1x szintes agility (A3\,A2\,A1)
    
    Továbbá szeretnénk egy különlegességet biztosítani\, vagyis a kezdő és az open jumping alatt a pályán kívül meghatározott keretek közt zónás akadályokon lesz gyakorlási lehetőség\, ennek részleteivel később jövünk.
    
    Nevezés elindult honlapunkon:
    
    www.kraftse.eu&nbsp\;
    
    várunk titeket szeretettel:
    Kraft SE csapata
    &nbsp\;

&nbsp\;

&nbsp\;

LOCATION:Tárnok Sóskúti út
END:VEVENT
END:VCALENDAR