BEGIN:VCALENDAR
METHOD:PUBLISH
VERSION:2.0
PRODID:-//Kutyabarathelyek//Programok//EN
BEGIN:VEVENT
SUMMARY:Kutyaetológia konferencia 2022
UID:69ed4f3b80490
DTSTART:20220129T000000Z
DTEND:20220129T000000Z

DESCRIPTION:&nbsp\;

&nbsp\;



&nbsp\;

&nbsp\;

2022. január 29-én ismét Kutyetológia Konferencia!


    Tudja-e a kutya\, ki beszél és milyen nyelven? Mikortól számítanak a kutyák felnőtteknek? Jutalom-e a gazda arca? Mi a kutyák jelentősége a demencia kutatásában? Felismerik-e a kutyák\, ha útban vannak?
    - ezekre és még több kérdésre kaphatnak választ a kutyaetológia iránt érdeklődők hagyományos konferenciánkon\, amelyen az ELTE Etológia tanszék\, az ELKH TTK KPI\, ELKH TKI\, MTA Lendület kutya-viselkedéskutatással foglalkozó csoportjainak 2021-ben megjelent publikációit mutatjuk be.


    Zoom link: a konferencia előtt néhány nappal osztjuk meg.


    A részvétel ingyenes.


    Részletes program az esemény Facebook oldalán!
    
    &nbsp\;

LOCATION: 
END:VEVENT
END:VCALENDAR