BEGIN:VCALENDAR
METHOD:PUBLISH
VERSION:2.0
PRODID:-//Kutyabarathelyek//Programok//EN
BEGIN:VEVENT
SUMMARY:KUTYÁK és GAZDIK
UID:69eab45fcec22
DTSTART:20150912T000000Z

URL;VALUE=URI:http://gesztenyevirag.hu/event/kutyak-es-gazdik/?instance_id=69
DESCRIPTION:2015. szeptember 12-én /szombaton/ Balatonszepezden a Gesztenyesor utca végén\,&nbsp\;az V. kerületi tábor bekerített szabad területén&nbsp\;igazi kutyás örömnapot rendezünk 10-15 óráig.
    Programok: agility bemutató\, kutyakiképzők bemutatója\, terápiás kutyák&nbsp\;bemutatója\, kutya szépség és ügyességi verseny\, gazdiknak &bdquo\;ki tud többet a kutyákról verseny.

Nevezési díj : 500 Ft / kutyánként
    Szeretettel várjuk Balatonszepezd és környéke kutya tulajdonosait\, kutyakedvelőit kedvencükkel.
    Kérjük\, hogy csak kizárólag egészséges\, oltott \,féregtelenített\, chippel ellátott és jól szocializált kutyával jöjjenek . Oltási könyveket kérjük hozzák magukkal.
    Rossz idő esetén a rendezvény más időpontban kerül megrendezésre.
    Balatonszepezdi Gesztenyevirág Nőegylet rendezésében.

&nbsp\;



LOCATION:Balatonszepezd Gesztenyesor utca
END:VEVENT
END:VCALENDAR