BEGIN:VCALENDAR
METHOD:PUBLISH
VERSION:2.0
PRODID:-//Kutyabarathelyek//Programok//EN
BEGIN:VEVENT
SUMMARY:Kutyakozmetikus Magyar Bajnokság 2015
UID:69e5f0ca32958
DTSTART:20150426T000000Z

URL;VALUE=URI:http://www.mkkoe.hu
DESCRIPTION:Kutyakozmetikus Magyar Bajnokság 2015

EGA kategóriás\, nyílt\, nemzetközi\, szakmai verseny

&nbsp\;

Budapest\, 2015.04.26. vasárnap

&nbsp\;

Kategóriák:


    Spánielek/Szetterek
    Trimmelős fajtájú kutyák
    Hobbi- Fantázia- Üzleti Nyírás
    Uszkárok
    Egyéb fajtatiszta kutyák ollóval nyírása


Helyszín:


    Alfa Art Hotel\, Budapest


Információk és jelentkezés:&nbsp\;


    www.mkkoe.hu


&nbsp\;



LOCATION:Budapest Királyok útja 205.
END:VEVENT
END:VCALENDAR