BEGIN:VCALENDAR
METHOD:PUBLISH
VERSION:2.0
PRODID:-//Kutyabarathelyek//Programok//EN
BEGIN:VEVENT
SUMMARY:Kutyás futás az Újpesti Futó és Kerékpáros Fesztivál keretein belül
UID:69ed1ae9125b9
DTSTART:20240928T000000Z
DTEND:20240928T000000Z
URL;VALUE=URI:https://rex.hu/hu/esemenyek/rendezvenyek/kutyas-futas/?fbclid=IwY2xjawFjYoJleHRuA2FlbQIxMAABHRJ9gYEfIJ5TgJ2ul8-0jDhyKp4PjkoKfgb-KPeF7SQknT0pKPWpFHCQdA_aem_AvC6oPyKFM8K-hg06DcXLQ
DESCRIPTION:Szívesen mozognál kutyusoddal és más gazdival együtt\, de nem bírod a hosszú távot?

Semmi baj\, akkor szombaton Budapesten a helyed a&nbsp\;Újpesti Futó és Kerékpáros Fesztiválon!

Könnyed\, 2 km-es távon próbálhatod ki magad.

&nbsp\;

További infó és jelentkezés itt:&nbsp\;https://rex.hu/hu/esemenyek/rendezvenyek/kutyas-futas/

&nbsp\;

LOCATION:Budapest Óceánárok utca
END:VEVENT
END:VCALENDAR