BEGIN:VCALENDAR
METHOD:PUBLISH
VERSION:2.0
PRODID:-//Kutyabarathelyek//Programok//EN
BEGIN:VEVENT
SUMMARY:Kutyás Húsvét
UID:69e81cc568c23
DTSTART:20240329T000000Z
DTEND:20240330T000000Z

DESCRIPTION:
    Töltsd a húsvétot&nbsp\;a Fekete István Állatvédő Egyesülettel és mentettjeikkel!
    
    Sétálj\, keress nyuszitojást\, ajándékozz!&nbsp\;
    Adományozz\, vásárolj\, fogadj örökbe!
    
    Részletes program a plakáton:


    &nbsp\;



&nbsp\;

&nbsp\;

LOCATION:Szombathely Vízöntő utca 7.
END:VEVENT
END:VCALENDAR