BEGIN:VCALENDAR
METHOD:PUBLISH
VERSION:2.0
PRODID:-//Kutyabarathelyek//Programok//EN
BEGIN:VEVENT
SUMMARY:Lelkes Verseny *9* - Kezdők Versenye
UID:69e74b80cf6e2
DTSTART:20190609T000000Z
DTEND:20190609T000000Z

DESCRIPTION:&nbsp\;



&nbsp\;

Kezdő sporttársaink versenye 75 és 275 méteren.
    A versenyen nem indulhatnak azok a kutyák\, akik a Haladók Versenyén sikeresen teljesítették futamaikat\, de indulhatnak azok\, akik nem teljesített futam miatt kiestek a versenyből. Nem indulhatnak továbbá egyéni\, társas vagy versenylicences kutyák.
    Nevezések számától függően lehetőség lesz edzésfutamokra is a verseny napján kezdőknek és haladóknak egyaránt.

&nbsp\;

További információ és nevezés az esemény Facebook oldalán!

&nbsp\;

&nbsp\;

&nbsp\;

LOCATION:Isaszeg 
END:VEVENT
END:VCALENDAR