BEGIN:VCALENDAR
METHOD:PUBLISH
VERSION:2.0
PRODID:-//Kutyabarathelyek//Programok//EN
BEGIN:VEVENT
SUMMARY:Madaraink és fáink
UID:69e81cd6b02c7
DTSTART:20150509T000000Z

URL;VALUE=URI:http://www.rex.hu
DESCRIPTION:Madaraink és fáink&nbsp\;

május 9-én\, 10-16-ig az Állatszigeten

&nbsp\;

Programok:

&nbsp\;

Előadások és vendégek:


    Herman Ottó Bonsai Egyesület - Radnai Sándor
        11:00 Apró óriások - Amit &nbsp\;bonsairól tudni kell
    Erdőmentők Alapítvány - Csonka Zsófia
        12:00 Kincsünk az erdő - interaktív előadás
    Béres Tamás és Vilmos\, a vércse
        13:30 Vilmos bemutatása és búcsúztatása: a Rex Alapítványhoz sérülten került vércse szabadon engedése
    A szabadon engedés után zenél: a Folk Edény


&nbsp\;

Előadók:


    Deák Fruzsina
    Nyéky Emese


&nbsp\;

Egész napos programok:&nbsp\;


    Kézműves foglalkozások
    Interaktív játékok
    Agyagozás
    Aranymosás
    Lovaglás
    Bonsai kiállítás - Az apró óriások
    Madárodú - Lessük meg a lombok lakóit!


A részvétel ingyenes!

&nbsp\;



LOCATION:Budapest Óceánárok utca 33.
END:VEVENT
END:VCALENDAR