BEGIN:VCALENDAR
METHOD:PUBLISH
VERSION:2.0
PRODID:-//Kutyabarathelyek//Programok//EN
BEGIN:VEVENT
SUMMARY:Magyar Hősök Túrasorozat - Virágh Gedeon Emléktúra
UID:69e59bcfd40cb
DTSTART:20181022T000000Z

URL;VALUE=URI:http://attilaunokai.net/magyar-hosok-turasorozat/viragh-gedeon-emlektura
DESCRIPTION:&nbsp\;



&nbsp\;

&nbsp\;

Újabb kutyabarát túra a Budai-hegységben!
    Időpont: 2018. 10. 22. HÉTFŐ
    Helyszín: Budai-hegység
    Regisztráció: 6-12 óra között (Budaörsi uszoda)
    
    
    További részletek itt:
    http://attilaunokai.net/magyar-hosok-turasorozat/viragh-gedeon-emlektura
    
    

LOCATION:Budaörs Hársfa utca 6
END:VEVENT
END:VCALENDAR