BEGIN:VCALENDAR
METHOD:PUBLISH
VERSION:2.0
PRODID:-//Kutyabarathelyek//Programok//EN
BEGIN:VEVENT
SUMMARY:Mancsot rá! Városi Gyereknap Kecskeméten
UID:69e7e0953e821
DTSTART:20160529T000000Z

URL;VALUE=URI:http://www.bacsmegye.hu/kecskemet/gyereknap-hiros-agora-kutya/kutyavilag-lesz-kecskemeten-gyereknapon.html
DESCRIPTION:&nbsp\;

Főszerepben a kutyák és a gyerekek!

&nbsp\;

Részletes program a plakáton:

&nbsp\;



LOCATION:Kecskemét 
END:VEVENT
END:VCALENDAR