BEGIN:VCALENDAR
METHOD:PUBLISH
VERSION:2.0
PRODID:-//Kutyabarathelyek//Programok//EN
BEGIN:VEVENT
SUMMARY:MAVE Klubkiállítás
UID:69e9eb3e108be
DTSTART:20150920T000000Z

URL;VALUE=URI:http://www.raba-agar.hu
DESCRIPTION:MAVE Klubkiállítás

Helyszín: Alsónémedi
    Cím: CAC

LOCATION:Alsónémedi 
END:VEVENT
END:VCALENDAR