BEGIN:VCALENDAR
METHOD:PUBLISH
VERSION:2.0
PRODID:-//Kutyabarathelyek//Programok//EN
BEGIN:VEVENT
SUMMARY:Miskolc CAC - Retro CAC 2018
UID:69e7022d6e220
DTSTART:20180526T000000Z


DESCRIPTION:
    2018.05.26-án CAC és Retro CAC nemzeti kutyakiállítás
    
    &nbsp\;



&nbsp\;

&nbsp\;

LOCATION:Miskolc Győri kapu 117
END:VEVENT
END:VCALENDAR