BEGIN:VCALENDAR
METHOD:PUBLISH
VERSION:2.0
PRODID:-//Kutyabarathelyek//Programok//EN
BEGIN:VEVENT
SUMMARY:MME 2016 Klubkiállítás és terelőnap
UID:69e792da74e44
DTSTART:20160521T000000Z


DESCRIPTION:Az 1. 2016-os rendezvényünk május 21-én\, szombaton lesz\, Porteleken\, Szarvas Tanyán\, itt lesz az éves Klubkiállítás\, a tavalyihoz hasonlóan tervezünk terelő-ösztönpróbát\, valamint terelési lehetőséget is. A kiállításon a bíró Antal Ferenc FCI küllembíró\, a terelésen pedig Zsíros Csaba FCI terelő munkabíró lesz. A terelésben ismét Szarvas Petra lesz a segítségünkre.
    Újdonság lesz a reggel 9-től induló játék\, ami IQ teszt lesz\, az ELTE Etológia tanszék szervezésében! Erre minden mudi ingyen nevezhet!

&nbsp\;



LOCATION:Jászberény 
END:VEVENT
END:VCALENDAR