BEGIN:VCALENDAR
METHOD:PUBLISH
VERSION:2.0
PRODID:-//Kutyabarathelyek//Programok//EN
BEGIN:VEVENT
SUMMARY: Nagy tavaszi tappancs gyűjtögetés a DOG GARDENNEL
UID:69e7f2c87a20c
DTSTART:20160521T000000Z


DESCRIPTION:Várunk minden Kétlábút és Négylábút egy közös délutáni dzsemborira\, ahol pár vidám órában megmutathatjátok kedvencetek ügyességét\, szépségét\, próbára tehetitek tudásotokat kutyás témákban\, mindezt értékes nyereményekért! A jó hangulat garantált\, azt pedig\, hogy sok jó mancs kis helyen is elfér\, egy reményünk szerint rettentő hosszú szalaggal fogjuk bizonyítani: minden eb vendég lába száma számoltatik :D
    Addig is folyamatos játék az esemény Facebook oldalán és jövünk a részletekkel!

&nbsp\;



LOCATION:Székesfehérvár Megyeház utca 17
END:VEVENT
END:VCALENDAR