BEGIN:VCALENDAR
METHOD:PUBLISH
VERSION:2.0
PRODID:-//Kutyabarathelyek//Programok//EN
BEGIN:VEVENT
SUMMARY:Nemzetközi Kutyakozmetikus Verseny
UID:69eb89a266686
DTSTART:20160605T000000Z


DESCRIPTION:Tisztelt Kollégák\,Érdeklődők!
    MEOESZ mint Házigazda\, Bönöczk Adél kutyakozmetikus rendezésében 2016 június 5.-én a GRAND PRIX CACIB keretén belül\,Nemzetközi Kutyakozmetikus Versenyt hirdet:
    Szűcs Imréné Marika néni Vándorkupa\,
    A 2014-es Guinnesse rekord megdöntése!
    Best Groomer&nbsp\;
    Nevezési díj:10 000ft \, amely tartalmazza a belépőjegy árát a kiállításra!
    
    NEVEZÉSI HATÁRIDŐ:Május 27!!!
    
    Érkezés reggel 8:00 óra!!!
    A verseny kezdete 9:00 óra!!
    
    KATEGÓRIÁK:
    Az ebeket minimum 6 hetes szőrben kell hozni a versenyre!
    Minden kategóriában 1.\,2.\,3.helyezett lesz!
    Minden versenyző ajándékot kap!
    1./Spánielek &amp\; Szetterek 2:30 óra
    2./Trimmelős 2:30 óra\,03:00 óra
    3./Nyírós &amp\;Ollós 2:30 óra\,03:00 óra
    4./Uszkár 45cm feletti marmagasság 2:30 óra&nbsp\;
    5./Uszkár 45cm alatti marmagasság 2:00 óra
    6./Keverékek 2:30 óra
    7./Üzleti(hobby) 2:00 óra
    8./Kreatív 2:00 óra
    9./Ázsiai stílus 2:00 óra
    10./Tanulók(akik még tanfolyamra járnak) 3óra áll rendelkezésre&nbsp\;
    11./Kezdők(2 évben belül végzettek)3óra áll rendelkezésre
    12./Juniorok 3óra (10éves kortól!)

LOCATION:Budapest Albertirsai út 10
END:VEVENT
END:VCALENDAR