BEGIN:VCALENDAR
METHOD:PUBLISH
VERSION:2.0
PRODID:-//Kutyabarathelyek//Programok//EN
BEGIN:VEVENT
SUMMARY:Nyusziváró adománygyűjtés az Együtt Egy Életért\, Ártatlan Állatokért Egyesület számára
UID:69e72768ef818
DTSTART:20220409T000000Z
DTEND:20220409T000000Z

DESCRIPTION:&nbsp\;



&nbsp\;

&nbsp\;

Nyusziváró adománygyűjtés az Együtt Egy Életért\, Ártatlan Állatokért Egyesület számára


    Barátságos hangulatú\,szívmelengető esemény a kutyabarát&nbsp\;Sugar - Cafe &amp\; Juice Bar -ban!

&nbsp\;

Háziasszonyok süteményei kerülnek kínálásra sok-sok szeretettel\, pénzbeli adományért cserébe. Az adományok teljes összege az&nbsp\;Együtt Egy Életért\, Ártatlan Állatokért Egyesületet&nbsp\;támogatja.

&nbsp\;

További információ az esemény Facebook oldalán!

&nbsp\;

&nbsp\;

&nbsp\;

LOCATION:Zalaegerszeg 
END:VEVENT
END:VCALENDAR