BEGIN:VCALENDAR
METHOD:PUBLISH
VERSION:2.0
PRODID:-//Kutyabarathelyek//Programok//EN
BEGIN:VEVENT
SUMMARY:Országos Kisállat és Növényvásár
UID:69ed26bfc6bff
DTSTART:20141018T000000Z
DTEND:20141019T000000Z

DESCRIPTION:

LOCATION:Budapest Városliget Zichy Mihály út 14. 
END:VEVENT
END:VCALENDAR