BEGIN:VCALENDAR
METHOD:PUBLISH
VERSION:2.0
PRODID:-//Kutyabarathelyek//Programok//EN
BEGIN:VEVENT
SUMMARY: Országos Vadásznap és Nógrád Megyei Horgásznap
UID:69e89282c3959
DTSTART:20150912T000000Z

URL;VALUE=URI:http://omvk.hu/hirek/orszagos-vadasznap-es-nograd-megyei-horgasznap.html
DESCRIPTION:Idén nevezetes napon\, a szécsényi országgyűlés 310. évfordulóján és helyszínén rendezik meg az éves eseményt. Az Országos Magyar Vadászkamara Nógrád megyei Területi Szervezete a város önkormányzatával és a megyei horgászokkal karöltve vár minden érdeklődőt változatos\, estébe nyúló programokkal a szécsényi Várkertben.&nbsp\;

&nbsp\;



LOCATION:Szécsény 
END:VEVENT
END:VCALENDAR