BEGIN:VCALENDAR
METHOD:PUBLISH
VERSION:2.0
PRODID:-//Kutyabarathelyek//Programok//EN
BEGIN:VEVENT
SUMMARY:Pécs 2xCACIB 2020
UID:69e97af97b6d9
DTSTART:20201205T000000Z
DTEND:20201206T000000Z
URL;VALUE=URI:http://www.meoepecs.hu/
DESCRIPTION:&nbsp\;

&nbsp\;

A rendezvény elmarad!

&nbsp\;

&nbsp\;



&nbsp\;

&nbsp\;

&nbsp\;

&nbsp\;

&nbsp\;

LOCATION:Pécs Megyeri út 72
END:VEVENT
END:VCALENDAR