BEGIN:VCALENDAR
METHOD:PUBLISH
VERSION:2.0
PRODID:-//Kutyabarathelyek//Programok//EN
BEGIN:VEVENT
SUMMARY:Pilis Open 2019
UID:69eb848c5f2bc
DTSTART:20190614T000000Z
DTEND:20190616T000000Z

DESCRIPTION:&nbsp\;



&nbsp\;

Agility Verseny 2019. június 14-16. közt\, Szentendre mellett Pilisszentlászlón\, természetes füves talajon\, professzionális Bing akadályokon és nemzetközileg elismert bírókkal.

&nbsp\;


    További információ az esemény Facebook oldalán!
    
    
    &nbsp\;

LOCATION:Szentendre Dobogókői út 8
END:VEVENT
END:VCALENDAR