BEGIN:VCALENDAR
METHOD:PUBLISH
VERSION:2.0
PRODID:-//Kutyabarathelyek//Programok//EN
BEGIN:VEVENT
SUMMARY:Puller Verseny - Közép-Dunántúl - Kisapostag
UID:69e7921caf607
DTSTART:20190610T000000Z
DTEND:20190610T000000Z

DESCRIPTION:&nbsp\;





&nbsp\;


&nbsp\;

A verseny a Magyar Dog Puller Egyesület által szervezett hivatalos\, regionális verseny\, egyben a Világbajnokság egyik kvalifikációs versenye is!


    Futamok:


    Running
    Jumping



    Nevezési kategória:


    Mini (40 cm és alatta)
    Maxi (40 cm felett)
    Drive (border colliek\, kelpiek\, malinois\, sport mixek)
    Veterán (8 év feletti kutyáknak\, marmagasságtól függetlenül) - a kategória indításához legalább 5 kutya nevezése szükséges
    Elit kategória (az aktuális versenyszezonban 125 pont feletti jumping vagy 10 pont feletti running futammal rendelkező kutyák\, marmagasságtól függetlenül) - a kategória indításához legalább 5 ide sorolható kutya szükséges



    Nem hivatalos kategória:


    Base (kezdő kutyák\, marmagasságtól függetlenül) - a kategória abban az esetben kerül megrendezésre\, ha legalább 5 kutya nevez ebbe a kategóriába
    Micro (5 kg alatti kutyák)


&nbsp\;

&nbsp\;


Nevezési (és fizetési) határidő: 

2019. június 3. hétfő 20:00

&nbsp\;

További részletek elérhetők az esemény&nbsp\;Facebook-oldalán!



    &nbsp\;


LOCATION:Kisapostag Arany János utca
END:VEVENT
END:VCALENDAR