BEGIN:VCALENDAR
METHOD:PUBLISH
VERSION:2.0
PRODID:-//Kutyabarathelyek//Programok//EN
BEGIN:VEVENT
SUMMARY:Puller Verseny - Nyugat-Dunántúl - Sopron
UID:69e81528b4697
DTSTART:20190622T000000Z
DTEND:20190622T000000Z

DESCRIPTION:&nbsp\;




&nbsp\;


    A&nbsp\;2. Dog Puller Világbajnokság&nbsp\;2019. szeptember 7-8.-án kerül megrendezésre Sopronban.
    Az országokban&nbsp\;jelenleg a válogató versenyek zajlanak\, hogy kiválogassák a legjobbakat\, akik aztán képviselhetik az országukat.&nbsp\;
    
    Nyugat-Dunántúl kvalifikációs futama 2019. június 22-én kerül megrendezésre Sopronban.

&nbsp\;

További részletek hamarosan elérhetők lesznek az esemény&nbsp\;Facebook-oldalán!
    
    &nbsp\;


&nbsp\;

LOCATION:Sopron 
END:VEVENT
END:VCALENDAR