BEGIN:VCALENDAR
METHOD:PUBLISH
VERSION:2.0
PRODID:-//Kutyabarathelyek//Programok//EN
BEGIN:VEVENT
SUMMARY:Pünkösd Kupa - verseny és vizsga 2019
UID:69e9e0a10fbdf
DTSTART:20190608T000000Z
DTEND:20190608T000000Z

DESCRIPTION:&nbsp\;



&nbsp\;

&nbsp\;

Pünkösdi királyság? Ez királyság!
    Pünkösd Kupa
    (Hivatalos verseny IBGH 1-3 és IGP 1-3 B és C és vizsga lehetőség BH-VT\, IBGH2-3)
    
    A néphagyomány szerint a pünkösdi királyt versenyjátékokkal választották. A győztes egy teljes évig viselhette a címet. Ez idő alatt a pünkösdi királynak több előjoga is volt\, nem kellett fizetnie a kocsmában\, a lovát a barátai őrizték és meghívták minden mulatságba...
    
    Elevenítsük fel ezt a hagyományt amúgy kutyás módra!
    A hivatalos verseny eredményeken túl\, külön értékeljük a legjobb fegyelmező és a legjobb őrző-védő munkát. A nyertes kutya és gazdája egy esztendeig büszkélkedhet a címmel és egy gyönyörű vándor kupával\, amire felkerül a nevük. A következő évben a kupát ugyan fel kell ajánlani\, de a nevük örökre fenn marad...
    
    Nevezésed az &quot\;omsekutyasuli@gmail.com&quot\; címre küldd!
    vizsga: BH-VT\, IBGH2\, IBGH3
    verseny: IBGH 1-3\, IGP 1-3 B és/vagy C fázis
    A rendezvényen a hivatalos MEOESZ díjszabás és az OMSE kedvezmény érvényes.
    Teljesítmény bíró: Kivágó Mónika FCI bíró

&nbsp\;


    További információ az esemény Facebook oldalán!
    
    
    &nbsp\;

LOCATION:Szigetszentmiklós Gyári út 66
END:VEVENT
END:VCALENDAR