BEGIN:VCALENDAR
METHOD:PUBLISH
VERSION:2.0
PRODID:-//Kutyabarathelyek//Programok//EN
BEGIN:VEVENT
SUMMARY:&quot\;Állati buli&quot\;
UID:69ecabde119aa
DTSTART:20140820T000000Z
DTEND:20140821T000000Z

DESCRIPTION:&quot\;Ez lesz a nyár legőrültebb\, legállatibb bulija az&nbsp\;Állati Fotózás szervezésében!



    Nincs megszokott versenyszám! Nincs megszokott program! Rendhagyó\, eltérő\, színes és szórakoztató játékokkal készülünk kutyáknak és gazdiknak egyaránt! Este\, ha még lesz erőd a szalonnasütés mellett\, egy fergeteges retro party-val is várunk! Elhozzuk a régi idők táborának hangulatát. Nemcsak a Kedvenced\, de még Te is élvezni fogod.

A szórakozás mellett nagyon fontosnak tartjuk\, hogy segítsünk a bajbajutott\, árva állatokon is\, ezért az első rendezvényünkkel az Ebárvaház a gazdátlanokért nonprofit Egyesületet támogatjuk.

Szórakoztató feladatok\, sorversenyek\, rejtélyes rejtvények\, feladatok vízben és szárazföldön\,&nbsp\;Állati Fotózás\, szalonnasütés\, RETRO party\, közös fürdőzés Kedvenceddel\, piactér.&quot\;


&nbsp\;

LOCATION:Délegyháza Nomád part 4.
END:VEVENT
END:VCALENDAR