BEGIN:VCALENDAR
METHOD:PUBLISH
VERSION:2.0
PRODID:-//Kutyabarathelyek//Programok//EN
BEGIN:VEVENT
SUMMARY:&quot\;Somogy Zöld Szíve&quot\; Kupa 2024
UID:69e8ba20e443f
DTSTART:20240323T000000Z
DTEND:20240324T000000Z

DESCRIPTION:2024. március 23-24-én kerül megrendezésre második alkalommal a &quot\;Somogy Zöld Szíve&quot\; Kupa - Green Heart&#39\;s Run Cup nemzetközi kutyás futó\, kerékpáros\, dogscooter kutyafogathajtó verseny Kaszón\, Somogy megyében\, csodálatos erdei környezetben.

&nbsp\;

&nbsp\;




    
    Rajtok mindkét nap 9.30-tól.
    A kutyás futás Happy futama esetében lehet csak 1 napra is nevezni\, az összes többi kategória esetében 2 napos a verseny mindenki számára.
    Táv: 4 km
    Serdülők: 2\,5 km
    Bébi: 200 m\, gyerek: 500 m
    A versenyre bármilyen kutyával lehet nevezni kutyás futás\, kutyás terepkerékpározás\, dogscooterezés és kutyafogathajtás kategóriákban.
    A verseny mindkét napján rajthoz állók kerülnek be a hivatalos eredménylistába\, eredményhirdetésbe.
    Van mód kutyás futásban csak egy napon rajthoz állni\, úgynevezett Happy futamon indulni. A Happy futamosok befutóérmet és oklevelet kapnak\, időmérés természetesen itt is van.
    
    További információ a versenyről és a nevezésről az esemény Facebook oldalán érhető el!
    
    


LOCATION:Kaszó Kaszópuszta 1
END:VEVENT
END:VCALENDAR