BEGIN:VCALENDAR
METHOD:PUBLISH
VERSION:2.0
PRODID:-//Kutyabarathelyek//Programok//EN
BEGIN:VEVENT
SUMMARY:Rajzverseny gyerekeknek és keverék kutya szépségverseny
UID:69e799d0d97e1
DTSTART:20160521T000000Z


DESCRIPTION:Május 21-én szeretettel várunk kicsiket és nagyokat\, kutyásokat és akik szeretik az állatokat a 2 programunkra:&nbsp\;
    - &quot\;Minden kutya másképp szép&quot\; - keverek kutya szépségverseny&nbsp\;
    - &quot\;A kedvencem és én&quot\; - rajzverseny gyerekeknek&nbsp\;

&nbsp\;




    
    Programok:
    10 &ndash\; 10:30 h &ndash\; Gyülekezés gyerekek - Regisztráció visszaigazolása a szépségversenyre
    10:30 - 11 h &ndash\; Bemutatkozás az Ebremény részéről
    11 -12 h - Keverék kutya szépségverseny&nbsp\;
    12 &ndash\; 12:30 h &ndash\; Eredményhirdetés rajzverseny
    12:30- 13 h &ndash\; Mennyit tudsz a kutyákról? Kvíz gyerekeknek
    13:00 &ndash\; 13:30 h &ndash\; Tombola sorsolása
    13:30 - 14 h &ndash\; Eredményhirdetés - kutyaszépségverseny
    
    Párhuzamos programok
    - Állatorvos tanácsok
    - Kutyakozmetikus tanácsok: kutya gondozósa es ápolása
    - Foto sarok (fotózás az Ebremény kutyusaival és örökbefogadott kutyusokkal)\, kutyasimogatás\, arcfestés.

&nbsp\;



LOCATION:Székelyudvarhely 
END:VEVENT
END:VCALENDAR