BEGIN:VCALENDAR
METHOD:PUBLISH
VERSION:2.0
PRODID:-//Kutyabarathelyek//Programok//EN
BEGIN:VEVENT
SUMMARY:RC Szeminárium
UID:69e8111ecc5f7
DTSTART:20150404T000000Z


DESCRIPTION:RC Szeminárium

&nbsp\;

Helyszín: TordasZoo lovarda

Időpont: 2015.04.04. 17:00

&nbsp\;

A targetes running contact tanítása\, az első lépésektől az utolsóig.

Lehetőség van:


    Az előadást meghallgatni (6000.-Ft)
    Az előadást meghallgatni és utána elbeszélgetni saját kutyáról\, akivel már elkezdtétek a runningot (8000.-Ft)
    A tanítás folyamán tanácsokat kérni (videó alapján) &nbsp\;(3000.-Ft/hét)


&nbsp\;



LOCATION:Gyúró 
END:VEVENT
END:VCALENDAR