BEGIN:VCALENDAR
METHOD:PUBLISH
VERSION:2.0
PRODID:-//Kutyabarathelyek//Programok//EN
BEGIN:VEVENT
SUMMARY: RETRO CAC kutyakiállítás
UID:69e84cb4a13d0
DTSTART:20150912T000000Z

URL;VALUE=URI:http://www.meoemiskolc.hu/hirek/dupla-cac-hetvege/36489/
DESCRIPTION:2015.09.12-én ismét RETRO CAC kutyakiállítást szervez a MEOE Miskolci Önálló Jogú Szervezete!

&nbsp\;

Újra jelmezverseny a RETRO CAC-on értékes díjazással.

A RETRO CAC kiállításon lehetőség lesz a fajtatiszta\, de törzskönyvvel nem rendelkező kutyák nevezésére.

Törzskönyvvel nem rendelkező kutyáknak nevezés a MEOE MÖJSZ Irodában 2015.08.31-ig. Nevezési díj: 4000 Ft/kutya.

Kategóriák:
    &bull\;kistestű (30 cm marmagasság alatti kutyák)
    &bull\;közepes termetű (30-45 cm marmagasságú kutyák)
    &bull\;nagytestű (45 cm marmagasság felett)

&nbsp\;

A nevezési határidő meghosszabbítva augusztus 29-ig!

&nbsp\;



LOCATION:Miskolc Győri kapu 117
END:VEVENT
END:VCALENDAR