BEGIN:VCALENDAR
METHOD:PUBLISH
VERSION:2.0
PRODID:-//Kutyabarathelyek//Programok//EN
BEGIN:VEVENT
SUMMARY:REXPO30 - Engedelmes Kutyák Napja
UID:69e9faf3afbc8
DTSTART:20220402T000000Z
DTEND:20220402T000000Z

DESCRIPTION:
    30 ÉVES A REX KUTYAOTTHON ALAPÍTVÁNY


    REXPO30
    Engedelmes Kutyák Napja
    2022. április 2. 10.00 &ndash\; 16.00

&nbsp\;




    Izgalmas programok a két- és négylábú vendégeknek egyaránt: bemuutatók\, ügyességi játékok\, szaktanácsadás\, meglepetés vendég!
    &nbsp\;

Tervezett program:

10.00 megnyitó
    10.10-11.00 RexTanoda hallgatóinak bemutatója\, benne őrző-védő bemutató
    11.00-11.30 ügyességi játékoknál a feladatok megismerése\, kiállítók\, programok bemutatása\, szűrő vizsgálatra való regisztrálás kezdete
    11.30-12.30 játékos ügyességi verseny gyerekeknek\, felnőtteknek
    12.30 tombola
    12.45 eredményhirdetés
    13.00 online előadás a RexTanoda vezető kiképzőjével\, téma: kiképzés vagy idomítás
    13.30-14.00 dr. Király Péter előadása: A szűrés fontosságáról\, aktuális állatorvosi tanácsok.
    14.30-15.00 meglepetés SZTÁRVENDÉG
    14.00-15.00 agility bemutató\, és utána nyílt óra\, a sport kipróbálása\, Helyszín: Parasztház
    15.00-15.30 dr. Király Péter előadása: Engedelmes kutyagyerekek az állatorvosnál
    15.30-16.00 tombola

&nbsp\;

&nbsp\;

További részletes információk az esemény Facebook oldalán!

&nbsp\;

&nbsp\;

LOCATION:Budapest Óceánárok utca 33
END:VEVENT
END:VCALENDAR