BEGIN:VCALENDAR
METHOD:PUBLISH
VERSION:2.0
PRODID:-//Kutyabarathelyek//Programok//EN
BEGIN:VEVENT
SUMMARY:Rövidszőrű Magyar Vizsla Tenyészetek Nemzeti Kupája 2015
UID:69e8404a88037
DTSTART:20150919T000000Z
DTEND:20150920T000000Z
URL;VALUE=URI:http://www.magyarvizslaklub.hu/
DESCRIPTION:&nbsp\;

Nevezési felhívás a Magyar Vizsla Klub Egyesület által rendezett Rövidszőrű Magyar Vizsla Tenyészetek Nemzeti Kupájára:

&nbsp\;

&nbsp\;



LOCATION:Kajászó 
END:VEVENT
END:VCALENDAR