BEGIN:VCALENDAR
METHOD:PUBLISH
VERSION:2.0
PRODID:-//Kutyabarathelyek//Programok//EN
BEGIN:VEVENT
SUMMARY:Run Dog 2020 Tavasz Futóverseny
UID:69e9e1115b6ef
DTSTART:20200426T000000Z
DTEND:20200426T000000Z

DESCRIPTION:&nbsp\;

&nbsp\;


VÁLTOZÁS!
    A verseny &quot\;online&quot\; lesz megtartva!&nbsp\;

Részletek a Facebook esménynél!


&nbsp\;

&nbsp\;

A verseny helye:&nbsp\;Tököli Parkerdő
    Versenyközpont: Erdészházzal szemben lévő terület.
    GPS koordináták: 47.2938126\,19.0106861
    Parkolni a tököli vagy szigethalmi oldalon lehetséges\, a parkerdőn kívül a közutakon. Tököli Parkerdőbe behajtani tilos!

&nbsp\;

&nbsp\;



&nbsp\;

&nbsp\;

Választható távok:


    3\,4 km Pihe futam
    7 km HOKA EVO JAWZ futam


A hosszú távosok egy 8-as alakú pályát futnak\, aminek a közepén (kb. féltávnál) van a frissítés a versenyközpontban.

&nbsp\;


    Akadályfutás 5+ akadállyal 7+km


&nbsp\;

&nbsp\;

További információ az esemény&nbsp\;Facebook oldalán!

&nbsp\;

&nbsp\;


&nbsp\;

További RUN DOG futamok:


    Run Dog 2020 Tél Futóverseny
    Run Dog 2020 Nyár Futóverseny
    Run Dog 2020 Ősz Futóverseny


&nbsp\;

LOCATION:Tököl Parkerdő út
END:VEVENT
END:VCALENDAR