BEGIN:VCALENDAR
METHOD:PUBLISH
VERSION:2.0
PRODID:-//Kutyabarathelyek//Programok//EN
BEGIN:VEVENT
SUMMARY:Salgótarján CAC - 2022
UID:69e768aee26b0
DTSTART:20220327T000000Z
DTEND:20220327T000000Z

DESCRIPTION:A KIÁLLÍTÁS PROGRAMJA:


    7.30 Kutyák belépése a kiállítás területére
    10.00 A kiállítás megnyitása\, a bírálatok megkezdése
    12.00 Salgótarjáni kutyaiskola bemutatója
    13.00 Legszebb keverék és hobby kutyák kiválasztása
    14.00 A Best in Show program:
    - Gyerek-kutya pár (9 évnél fiatalabb gyermekek részére)
    - Fiatal felvezetők versenye két kategóriában
    (9-14 éves kor között és 14-18 éves kor között)
    - Senior felvezetők versenye két kategóriában
    (30-49 éves kor között és 50 éves kor fölött)
    - Kutyapárok versenye
    (azonos fajtájú\, azonos tulajdonban lévő két kutya)\,
    - Tenyésztési díj (tenyészcsoport)
    (egy tenyészetből származó\, legalább két különböző apától\, vagy két különböző anyától származó legalább három és maximum öt azonos fajtájú kutya)
    - Legszebb minor puppy (bébi) kutya kiválasztása
    - Legszebb kölyök kutya kiválasztása
    - Legszebb veterán kutya kiválasztása
    - Legszebb Nógrád megyei tulajdonú kutya
    (Nógrád megyei tulajdonban lévő\, legalább kitűnő minősítésű kutyák közül kerül kiválasztásra)\,
    - Legszebb magyar fajta
    - FCI által el nem ismert fajták BEST IN SHOW kiválasztása
    - Fajtacsoport győztesek kiválasztása
    - BOS BIS\, JUNIOR BIS\, BEST IN SHOW kiválasztása
    (a legszebb ellenkező nemű \, a kiállítás legszebb fiatal\, és a kiállítás legszebb kutyája)

&nbsp\;


    További információ az esemény Facebook oldalán.
    &nbsp\;

LOCATION:Salgótarján 
END:VEVENT
END:VCALENDAR