BEGIN:VCALENDAR
METHOD:PUBLISH
VERSION:2.0
PRODID:-//Kutyabarathelyek//Programok//EN
BEGIN:VEVENT
SUMMARY:Sárvár CACIB 2019
UID:69e67f375a662
DTSTART:20190712T000000Z
DTEND:20190714T000000Z
URL;VALUE=URI:https://www.kennelclub.hu/
DESCRIPTION:&nbsp\;



&nbsp\;

&nbsp\;

2019 július 12-13-14 én Sárvár ad otthont a pénteki komplett fajtacsoportos CACIB és szombat-vasárnap váltott fajtacsoportos CACIB kiállításnak - mely központi rendezésű és a címek esetében központi kiállításnak minősül !

&nbsp\;

A kiállításnak a Sárvári Vadkert Major vadaspark (&nbsp\;http://www.vadkertmajor.hu&nbsp\;) ősfás ligetei adnak otthont\, közvetlen a sárvári gyógy-és wellness fürdő szomszédságában.

&nbsp\;

Sárvár hagyományosan üdülő város rengeteg nyári programmal - szálláslehetőséggel \, a kiállítás területén 30 lakóautó ellátására szolgáló kempinggel.

&nbsp\;

A kiállítás bírólistája már olvasható a weboldalon!

&nbsp\;

További információk pedig a facebook oldalon folyamatosan:&nbsp\;https://www.facebook.com/sarvarcacib/

&nbsp\;

&nbsp\;

&nbsp\;

LOCATION:Sárvár Vadkert körút 2
END:VEVENT
END:VCALENDAR