BEGIN:VCALENDAR
METHOD:PUBLISH
VERSION:2.0
PRODID:-//Kutyabarathelyek//Programok//EN
BEGIN:VEVENT
SUMMARY:SISI Memorial Klubkiállítás 2019
UID:69e70233c73eb
DTSTART:20190601T000000Z
DTEND:20190601T000000Z

DESCRIPTION:&nbsp\;



&nbsp\;


    &quot\;SISI MEMORIAL&quot\;
    KLUBKIÁLLÍTÁS
    SZERVEZŐ: MAFE &amp\; MAG FE
    GÖDÖLLŐ\, 2019. JÚNIUS 1.
    
    NEVEZÉSI INFORMÁCIÓK:
    A KIÁLLÍTÁS KLUBKIÁLLÍTÁS VALAMENNYI BÍRÁLT FAJTA TEKINTETÉBEN.
    
    BÍRÓK:
    Wiesława Misterka-Kluska (Lengyelország): az FCI X. fajtacsoport valamennyi fajtája.
    Juhász Csilla: az FCI V. fajtacsoportból a Basenji\, a Podenco Ibicenco\, a Pharaohound és a Cirneco dell&rsquo\;Etna.
    
    Nevezési cím (levélben):
    6611 Szentes-Magyartés\, Tanya 58.
    E-mail: magfe.hu@gmail.com
    
    Nevezési határidő: 2019. május 19. (éjfél)

&nbsp\;

További információ az esemény Facebook oldalán!

&nbsp\;

&nbsp\;


    &nbsp\;

LOCATION:Gödöllő 
END:VEVENT
END:VCALENDAR