BEGIN:VCALENDAR
METHOD:PUBLISH
VERSION:2.0
PRODID:-//Kutyabarathelyek//Programok//EN
BEGIN:VEVENT
SUMMARY:Speciális CAC Kiállítás és Tenyészszemle 
UID:69ea532d24c67
DTSTART:20141019T000000Z

URL;VALUE=URI:http://www.komondorklub.hu/
DESCRIPTION:Speciális CAC Kiállítás&nbsp\;és&nbsp\;Tenyészszemle &ndash\;tenyészminősítést adó rendezvény

&nbsp\;

Bírók: 


    Dr. Szetmár István
    Udvardiné Lukács Ilona


Helyszín:

Budapest\, Strázsa KKI.

&nbsp\;

A klub rendezvényeirõl információt Udvardiné Lukács Ilona Klubelnöknél kaphatnak: telefon: 06(30)9-515-018
    e-mail:&nbsp\;icakom@monornet.hu&nbsp\;
    
    További információk\, és nevezési lap&nbsp\;ITT

LOCATION:Budapest Népliget
END:VEVENT
END:VCALENDAR