BEGIN:VCALENDAR
METHOD:PUBLISH
VERSION:2.0
PRODID:-//Kutyabarathelyek//Programok//EN
BEGIN:VEVENT
SUMMARY:Speciális Mentőcsoportok Gyakorlata és Szemináriuma
UID:69e7945d9a90f
DTSTART:20180622T000000Z


DESCRIPTION:&nbsp\;



&nbsp\;

Speciális Mentőcsoportok Gyakorlata és Szemináriuma.


    A Neptun Búvár Klub Mályi Bázisán kerül megrendezésre az alábbi témákban: Búvár\, Kötéltechnika\, Elsősegélynyújtás\, Mentőkutya\, Térképismeret.
    Jelentkezés e-mailben: buvarklubneptun@gmail.com
    
    
    &nbsp\;

LOCATION:Miskolc Serház utca 6
END:VEVENT
END:VCALENDAR