BEGIN:VCALENDAR
METHOD:PUBLISH
VERSION:2.0
PRODID:-//Kutyabarathelyek//Programok//EN
BEGIN:VEVENT
SUMMARY:Star Track bikejöring\, dogscooter\,canicross verseny
UID:69e83345a74ec
DTSTART:20240406T000000Z
DTEND:20240406T000000Z
URL;VALUE=URI:https://www.canicross.hu/star-track-bikejoring-dogscootercanicross-verseny/
DESCRIPTION:IDŐPONT:&nbsp\;2024.04.06. szombat 8:00
    HELYSZÍN:&nbsp\;Csemő (Putrisarki Parkerdő)
    A VERSENY RENDEZŐJE:&nbsp\;MAGYAR CANICROSS SPORTEGYESÜLET


    TÁV:&nbsp\;4-5km


    Kutyás futás
    Kutyás tereproller
    Egy kutyás kerékpár
    Két kutyás kerékpár
    
    &nbsp\;

További információ a kategóriákról és a nevezésről az esemény weboldalán.

&nbsp\;

&nbsp\;



&nbsp\;

&nbsp\;

&nbsp\;

&nbsp\;

LOCATION:Csemő 
END:VEVENT
END:VCALENDAR