BEGIN:VCALENDAR
METHOD:PUBLISH
VERSION:2.0
PRODID:-//Kutyabarathelyek//Programok//EN
BEGIN:VEVENT
SUMMARY:Szentendrei Tavaszi Agility Verseny
UID:69e7173a60ba1
DTSTART:20180526T000000Z


DESCRIPTION:&nbsp\;




    Tavaszi Agility Verseny Szentendrén - a verseny hivatalos verseny\, alumínium zónás- és műanyag ugró akadályokon.&nbsp\;
    
    Tervezett futamok: Zsenge jumping (x2)\, Kezdő jumping (x2)\, A1\, A2\, Open Agility\, A3\, Hobby/Veterán
    
    Bírók: Szoboszlay Erika\, Jäckl Anikó
    
    További részletek és nevezés az agilityverseny.hu oldalon és az esemény Facebook oldalán.
    
    &nbsp\;

LOCATION:Pilisszentlászló Béke utca
END:VEVENT
END:VCALENDAR