BEGIN:VCALENDAR
METHOD:PUBLISH
VERSION:2.0
PRODID:-//Kutyabarathelyek//Programok//EN
BEGIN:VEVENT
SUMMARY:Tanya kerülő kutyafogathajtó verseny
UID:69ed8526dcb75
DTSTART:20150307T000000Z
DTEND:20150308T000000Z

DESCRIPTION:

LOCATION:Őrbottyán Őrbottyán
END:VEVENT
END:VCALENDAR