BEGIN:VCALENDAR
METHOD:PUBLISH
VERSION:2.0
PRODID:-//Kutyabarathelyek//Programok//EN
BEGIN:VEVENT
SUMMARY:Tavaszi Agility Találkozó
UID:69e73897937a7
DTSTART:20180527T000000Z

URL;VALUE=URI:http://rex.hu/
DESCRIPTION:&nbsp\;




    Szeretettel meghívunk mindenkit második alkalommal megrendezésre kerülő agility találkozónkra!
    
    Futamok: zsenge (2 jumping)\, kezdő (2 jumping)\, open agility\, open jumping\, hobby/veterán
    Bírók: Horváth Anikó
    
    Díjazás: Futamonként az elsõ 3 helyezett. Kezdõ méretenként\, de kevés induló esetében összevontan. Szintes agility - szintenként és méretenként.&nbsp\;
    Akadályok: A futamok alumínium gumírozott zónásokon\, csúszásmentes kúszókon\, új szabályzatnak megfelelő ugró akadályokon kerül megrendezésre.
    
    Nevezés módja: Online nevezés oldalunkon.
    Nevezési díj beérkezésének határideje: 2018. május 18. (péntek)
    Nevezési díj: 2.800 Ft/kutya
    
    Nevezési limit: 100 páros
    
    A verseny napján már nem fogadunk el felvezetõ-\, ugrómagasság- vagy startlista módosítási kérelmeket! (Kivétel: tüzelõ szuka!)
    Eredményhirdetés: a verseny végén ünnepélyes keretek között
    
    Részvételi szabályzat:
    - A jelentkezés a részvételi díj befizetésével válik érvényessé.
    - A regisztrációnál az érvényes oltási könyvet be kell mutatni.
    - A kutyákban legyen chip az érvényes jogszabályokra való tekintettel!
    - A futamokon kizárás esetén EGY lehetõség van javításra\, utána folytatni kell a futamot vagy le kell menni a pályáról.
    - A tüzelõ kutyák a futamok legvégén futnak\, így kérünk minden gazdit\, akinek tüzel a kutyája legkésõbb keddig jelezze.&nbsp\;
    - Egy adott szint/méretosztály alacsony számú nevezése esetén összevonásra kerülhet sor a díjazásnál.
    - A kutyaürüléket minden esetben\, mindenhonnan szíveskedjetek összeszedni!&nbsp\;
    - Befizetett nevezési díjat a nevezési/fizetési határidõ után nem térítünk vissza. Kivétel\, ha indokolt orvosi igazolást mutatnak be.
    
    A program változás jogát fenntartjuk!

&nbsp\;

További információ az esemény Facebook oldalán!&nbsp\;

&nbsp\;


    
    &nbsp\;

LOCATION:Budapest Óceánárok utca 33
END:VEVENT
END:VCALENDAR