BEGIN:VCALENDAR
METHOD:PUBLISH
VERSION:2.0
PRODID:-//Kutyabarathelyek//Programok//EN
BEGIN:VEVENT
SUMMARY:TENYÉSZSZEMLE - MAGYAR AGARAK RÉSZÉRE
UID:69e655c4b8bd5
DTSTART:20141126T000000Z

URL;VALUE=URI:http://www.iwclub.hu
DESCRIPTION:Minden alkalommal 17 órától a MEOESZ központban (1194. Budapest\, Hofherr A. u. 38-40.)

&nbsp\;

Kérjük\, hogy a szemlén bemutatni kívánt agarakat a szemle időpontját legkésőbb 48 órával megelőzően emailben szíveskedjenek előzetesen bejelenteni!

Bjelentési cím:&nbsp\;iwclub.hu@gmail.com

LOCATION:Budapest Hofherr A. u. 38-40
END:VEVENT
END:VCALENDAR