BEGIN:VCALENDAR
METHOD:PUBLISH
VERSION:2.0
PRODID:-//Kutyabarathelyek//Programok//EN
BEGIN:VEVENT
SUMMARY:Vadász Gyermeknap
UID:69e79260d959d
DTSTART:20160529T000000Z


DESCRIPTION:
    Mesejáték\, Solymász bemutató\, vizsla-fajta bemutató
    21.30 Jó ebédhez szól a nóta - Poór Péter
    16 órakor Szandi gyermekműsora\,
    16 órakor Rácz Gergő koncert
    18 órakor János vitéz című zenés játék a Sziget Színház előadásásban
    Minden program ingyenes!

&nbsp\;



LOCATION:Várpalota 
END:VEVENT
END:VCALENDAR