BEGIN:VCALENDAR
METHOD:PUBLISH
VERSION:2.0
PRODID:-//Kutyabarathelyek//Programok//EN
BEGIN:VEVENT
SUMMARY:Valentin napi jótékonysági tréning és séta
UID:69e81c9d11e50
DTSTART:20240217T000000Z
DTEND:20240217T000000Z

DESCRIPTION:
    Szeretettel várunk minden kutyust és gazdit Valentin napi jótékonysági sétánkra és tréningre. A séta időtartama 2\,5- 3 óra. A sétába beiktatunk feladatokat\, természetes sétagazdagító elemeket \, hogy a jövőben ti is ki tudjátok használni a terep lehetőségeket és gazdagabb legyen a sétátok.


    A sétára olyan\, 6 hónaposnál idősebb kutyákat várunk\, akik jól szocializáltak\, más kutyákkal jól kijönnek. Minimális engedelmesség elvárt. A séta során a kutyák hosszú pórázon lesznek. Ha van rá lehetőségünk és a kutyák dinamikája lehetővé teszi\, akkor póráz nélküli gyakorlatokat is végzünk.


    Találkozási pont: a Dózsa György út és az Ültetvény utca kereszteződése a 18. kerületben. BKV-val is könnyen megközelíthető: mindkét irányban pont ott van a buszmegálló.


    A sétán való részvételért nem kell fizetni. Élelmiszer adományt kérünk\, melyet a gyáli Bundás Barát Állatvédő Egyesület számára gyűjtünk. Happy Dog száraz eledelre van szükségük\, felnőtt és kölyök kutyák számára egyaránt. Ezt hozd magaddal a sétára és a séta megkezdése előtt átvesszük tőled.

&nbsp\;


    További információ az esemény Facebook oldalán!

&nbsp\;

&nbsp\;



&nbsp\;


    &nbsp\;

LOCATION:Budapest Dózsa György utca 112
END:VEVENT
END:VCALENDAR